BEGIN:VCALENDAR
VERSION:2.0
PRODID:-//Chicagoland Melee - ECPv6.0.4//NONSGML v1.0//EN
CALSCALE:GREGORIAN
METHOD:PUBLISH
X-WR-CALNAME:Chicagoland Melee
X-ORIGINAL-URL:https://chicagomelee.com
X-WR-CALDESC:Events for Chicagoland Melee
REFRESH-INTERVAL;VALUE=DURATION:PT1H
X-Robots-Tag:noindex
X-PUBLISHED-TTL:PT1H
BEGIN:VTIMEZONE
TZID:America/Chicago
BEGIN:DAYLIGHT
TZOFFSETFROM:-0600
TZOFFSETTO:-0500
TZNAME:CDT
DTSTART:20230312T080000
END:DAYLIGHT
BEGIN:STANDARD
TZOFFSETFROM:-0500
TZOFFSETTO:-0600
TZNAME:CST
DTSTART:20231105T070000
END:STANDARD
END:VTIMEZONE
BEGIN:VEVENT
DTSTART;TZID=America/Chicago:20230417T170000
DTEND;TZID=America/Chicago:20230417T230000
DTSTAMP:20260421T101321
CREATED:20221017T202418Z
LAST-MODIFIED:20221017T202516Z
UID:10001402-1681750800-1681772400@chicagomelee.com
SUMMARY:Scrims Showdown
DESCRIPTION:Sign-up on start.gg
URL:https://chicagomelee.com/tournament/hpt-x-scrims-2/2023-04-17/
LOCATION:Scrims Esports Gaming Center\, 2000 Ogden Ave\, Lisle\, IL\, 60532\, United States
CATEGORIES:Weeklies
ATTACH;FMTTYPE=image/jpeg:https://chicagomelee.com/wp-content/uploads/scrims-showdown.jpeg
GEO:41.7999988;-88.0917914
X-APPLE-STRUCTURED-LOCATION;VALUE=URI;X-ADDRESS=Scrims Esports Gaming Center 2000 Ogden Ave Lisle IL 60532 United States;X-APPLE-RADIUS=500;X-TITLE=2000 Ogden Ave:geo:-88.0917914,41.7999988
END:VEVENT
BEGIN:VEVENT
DTSTART;TZID=America/Chicago:20230419T180000
DTEND;TZID=America/Chicago:20230419T235900
DTSTAMP:20260421T101321
CREATED:20210818T041443Z
LAST-MODIFIED:20221126T215051Z
UID:10000899-1681927200-1681948740@chicagomelee.com
SUMMARY:Midlane Melee
DESCRIPTION:Watch Stream\nSign-up on start.gg
URL:https://chicagomelee.com/tournament/midlane-melee/2023-04-19/
LOCATION:Midlane Esports\, 2741 N Milwaukee Ave\, Chicago\, IL\, 60647\, United States
CATEGORIES:Weeklies
ATTACH;FMTTYPE=image/png:https://chicagomelee.com/wp-content/uploads/Midlane-Melee-Icon.png
GEO:41.9309858;-87.712512
X-APPLE-STRUCTURED-LOCATION;VALUE=URI;X-ADDRESS=Midlane Esports 2741 N Milwaukee Ave Chicago IL 60647 United States;X-APPLE-RADIUS=500;X-TITLE=2741 N Milwaukee Ave:geo:-87.712512,41.9309858
END:VEVENT
BEGIN:VEVENT
DTSTART;TZID=America/Chicago:20230420T170000
DTEND;TZID=America/Chicago:20230420T220000
DTSTAMP:20260421T101321
CREATED:20220824T185811Z
LAST-MODIFIED:20231013T020505Z
UID:10001528-1682010000-1682028000@chicagomelee.com
SUMMARY:Esports Arena Chicago Super Smash Thursdays
DESCRIPTION:Sign-up on start.gg
URL:https://chicagomelee.com/tournament/esports-arena-chicago-super-smash-thursdays/2023-04-20/
LOCATION:Esports Arena\, 1205 State Rte 31\, Crystal Lake\, IL\, 60014\, United States
CATEGORIES:Weeklies
ATTACH;FMTTYPE=image/jpeg:https://chicagomelee.com/wp-content/uploads/Esports-Arena-Thursdays.jpg
GEO:42.209395;-88.2828999
X-APPLE-STRUCTURED-LOCATION;VALUE=URI;X-ADDRESS=Esports Arena 1205 State Rte 31 Crystal Lake IL 60014 United States;X-APPLE-RADIUS=500;X-TITLE=1205 State Rte 31:geo:-88.2828999,42.209395
END:VEVENT
BEGIN:VEVENT
DTSTART;TZID=America/Chicago:20230421T180000
DTEND;TZID=America/Chicago:20230421T235900
DTSTAMP:20260421T101321
CREATED:20210818T050840Z
LAST-MODIFIED:20221017T202713Z
UID:10001241-1682100000-1682121540@chicagomelee.com
SUMMARY:Tripoint Smash
DESCRIPTION:Watch StreamSign-up on start.gg
URL:https://chicagomelee.com/tournament/tripoint-smash/2023-04-21/
LOCATION:Tripoint Venue\, 174 Highpoint Dr\, Romeoville\, IL\, 60446\, United States
CATEGORIES:Weeklies
ATTACH;FMTTYPE=image/png:https://chicagomelee.com/wp-content/uploads/Tripoint-Smash.png
GEO:41.6178673;-88.1302579
X-APPLE-STRUCTURED-LOCATION;VALUE=URI;X-ADDRESS=Tripoint Venue 174 Highpoint Dr Romeoville IL 60446 United States;X-APPLE-RADIUS=500;X-TITLE=174 Highpoint Dr:geo:-88.1302579,41.6178673
END:VEVENT
BEGIN:VEVENT
DTSTART;TZID=America/Chicago:20230422T100000
DTEND;TZID=America/Chicago:20230422T200000
DTSTAMP:20260421T101321
CREATED:20231013T021939Z
LAST-MODIFIED:20231013T022039Z
UID:10001803-1682157600-1682193600@chicagomelee.com
SUMMARY:Out of the Blue
DESCRIPTION:Sign-up on start.gg
URL:https://chicagomelee.com/tournament/out-of-the-blue/
LOCATION:DePaul University Student Center\, 2250 N Sheffield Ave\, Chicago\, IL\, 60614\, United States
CATEGORIES:Regional
ATTACH;FMTTYPE=image/png:https://chicagomelee.com/wp-content/uploads/OutoftheBlue-Profile.png
GEO:41.92312;-87.6541235
X-APPLE-STRUCTURED-LOCATION;VALUE=URI;X-ADDRESS=DePaul University Student Center 2250 N Sheffield Ave Chicago IL 60614 United States;X-APPLE-RADIUS=500;X-TITLE=2250 N Sheffield Ave:geo:-87.6541235,41.92312
END:VEVENT
END:VCALENDAR