BEGIN:VCALENDAR
VERSION:2.0
PRODID:-//Chicagoland Melee - ECPv6.0.4//NONSGML v1.0//EN
CALSCALE:GREGORIAN
METHOD:PUBLISH
X-ORIGINAL-URL:https://chicagomelee.com
X-WR-CALDESC:Events for Chicagoland Melee
REFRESH-INTERVAL;VALUE=DURATION:PT1H
X-Robots-Tag:noindex
X-PUBLISHED-TTL:PT1H
BEGIN:VTIMEZONE
TZID:America/Chicago
BEGIN:DAYLIGHT
TZOFFSETFROM:-0600
TZOFFSETTO:-0500
TZNAME:CDT
DTSTART:20260308T080000
END:DAYLIGHT
BEGIN:STANDARD
TZOFFSETFROM:-0500
TZOFFSETTO:-0600
TZNAME:CST
DTSTART:20261101T070000
END:STANDARD
END:VTIMEZONE
BEGIN:VEVENT
DTSTART;TZID=America/Chicago:20260422T180000
DTEND;TZID=America/Chicago:20260422T235900
DTSTAMP:20260421T051719
CREATED:20231013T022307Z
LAST-MODIFIED:20241120T215504Z
UID:10001999-1776880800-1776902340@chicagomelee.com
SUMMARY:Midlane Melee
DESCRIPTION:Watch Stream\nSign-up on start.gg
URL:https://chicagomelee.com/tournament/midlane-melee-2/2026-04-22/
LOCATION:Midlane Esports\, 2741 N Milwaukee Ave\, Chicago\, IL\, 60647\, United States
CATEGORIES:Weeklies
ATTACH;FMTTYPE=image/png:https://chicagomelee.com/wp-content/uploads/start.gg-Profile.png
GEO:41.9309858;-87.712512
X-APPLE-STRUCTURED-LOCATION;VALUE=URI;X-ADDRESS=Midlane Esports 2741 N Milwaukee Ave Chicago IL 60647 United States;X-APPLE-RADIUS=500;X-TITLE=2741 N Milwaukee Ave:geo:-87.712512,41.9309858
END:VEVENT
BEGIN:VEVENT
DTSTART;TZID=America/Chicago:20260429T180000
DTEND;TZID=America/Chicago:20260429T235900
DTSTAMP:20260421T051719
CREATED:20231013T022307Z
LAST-MODIFIED:20241120T215504Z
UID:10002000-1777485600-1777507140@chicagomelee.com
SUMMARY:Midlane Melee
DESCRIPTION:Watch Stream\nSign-up on start.gg
URL:https://chicagomelee.com/tournament/midlane-melee-2/2026-04-29/
LOCATION:Midlane Esports\, 2741 N Milwaukee Ave\, Chicago\, IL\, 60647\, United States
CATEGORIES:Weeklies
ATTACH;FMTTYPE=image/png:https://chicagomelee.com/wp-content/uploads/start.gg-Profile.png
GEO:41.9309858;-87.712512
X-APPLE-STRUCTURED-LOCATION;VALUE=URI;X-ADDRESS=Midlane Esports 2741 N Milwaukee Ave Chicago IL 60647 United States;X-APPLE-RADIUS=500;X-TITLE=2741 N Milwaukee Ave:geo:-87.712512,41.9309858
END:VEVENT
BEGIN:VEVENT
DTSTART;TZID=America/Chicago:20260506T180000
DTEND;TZID=America/Chicago:20260506T235900
DTSTAMP:20260421T051719
CREATED:20231013T022307Z
LAST-MODIFIED:20241120T215504Z
UID:10002001-1778090400-1778111940@chicagomelee.com
SUMMARY:Midlane Melee
DESCRIPTION:Watch Stream\nSign-up on start.gg
URL:https://chicagomelee.com/tournament/midlane-melee-2/2026-05-06/
LOCATION:Midlane Esports\, 2741 N Milwaukee Ave\, Chicago\, IL\, 60647\, United States
CATEGORIES:Weeklies
ATTACH;FMTTYPE=image/png:https://chicagomelee.com/wp-content/uploads/start.gg-Profile.png
GEO:41.9309858;-87.712512
X-APPLE-STRUCTURED-LOCATION;VALUE=URI;X-ADDRESS=Midlane Esports 2741 N Milwaukee Ave Chicago IL 60647 United States;X-APPLE-RADIUS=500;X-TITLE=2741 N Milwaukee Ave:geo:-87.712512,41.9309858
END:VEVENT
BEGIN:VEVENT
DTSTART;TZID=America/Chicago:20260513T180000
DTEND;TZID=America/Chicago:20260513T235900
DTSTAMP:20260421T051719
CREATED:20231013T022307Z
LAST-MODIFIED:20241120T215504Z
UID:10002002-1778695200-1778716740@chicagomelee.com
SUMMARY:Midlane Melee
DESCRIPTION:Watch Stream\nSign-up on start.gg
URL:https://chicagomelee.com/tournament/midlane-melee-2/2026-05-13/
LOCATION:Midlane Esports\, 2741 N Milwaukee Ave\, Chicago\, IL\, 60647\, United States
CATEGORIES:Weeklies
ATTACH;FMTTYPE=image/png:https://chicagomelee.com/wp-content/uploads/start.gg-Profile.png
GEO:41.9309858;-87.712512
X-APPLE-STRUCTURED-LOCATION;VALUE=URI;X-ADDRESS=Midlane Esports 2741 N Milwaukee Ave Chicago IL 60647 United States;X-APPLE-RADIUS=500;X-TITLE=2741 N Milwaukee Ave:geo:-87.712512,41.9309858
END:VEVENT
BEGIN:VEVENT
DTSTART;TZID=America/Chicago:20260520T180000
DTEND;TZID=America/Chicago:20260520T235900
DTSTAMP:20260421T051719
CREATED:20231013T022307Z
LAST-MODIFIED:20241120T215504Z
UID:10002003-1779300000-1779321540@chicagomelee.com
SUMMARY:Midlane Melee
DESCRIPTION:Watch Stream\nSign-up on start.gg
URL:https://chicagomelee.com/tournament/midlane-melee-2/2026-05-20/
LOCATION:Midlane Esports\, 2741 N Milwaukee Ave\, Chicago\, IL\, 60647\, United States
CATEGORIES:Weeklies
ATTACH;FMTTYPE=image/png:https://chicagomelee.com/wp-content/uploads/start.gg-Profile.png
GEO:41.9309858;-87.712512
X-APPLE-STRUCTURED-LOCATION;VALUE=URI;X-ADDRESS=Midlane Esports 2741 N Milwaukee Ave Chicago IL 60647 United States;X-APPLE-RADIUS=500;X-TITLE=2741 N Milwaukee Ave:geo:-87.712512,41.9309858
END:VEVENT
BEGIN:VEVENT
DTSTART;TZID=America/Chicago:20260527T180000
DTEND;TZID=America/Chicago:20260527T235900
DTSTAMP:20260421T051719
CREATED:20231013T022307Z
LAST-MODIFIED:20241120T215504Z
UID:10002004-1779904800-1779926340@chicagomelee.com
SUMMARY:Midlane Melee
DESCRIPTION:Watch Stream\nSign-up on start.gg
URL:https://chicagomelee.com/tournament/midlane-melee-2/2026-05-27/
LOCATION:Midlane Esports\, 2741 N Milwaukee Ave\, Chicago\, IL\, 60647\, United States
CATEGORIES:Weeklies
ATTACH;FMTTYPE=image/png:https://chicagomelee.com/wp-content/uploads/start.gg-Profile.png
GEO:41.9309858;-87.712512
X-APPLE-STRUCTURED-LOCATION;VALUE=URI;X-ADDRESS=Midlane Esports 2741 N Milwaukee Ave Chicago IL 60647 United States;X-APPLE-RADIUS=500;X-TITLE=2741 N Milwaukee Ave:geo:-87.712512,41.9309858
END:VEVENT
BEGIN:VEVENT
DTSTART;TZID=America/Chicago:20260603T180000
DTEND;TZID=America/Chicago:20260603T235900
DTSTAMP:20260421T051719
CREATED:20231013T022307Z
LAST-MODIFIED:20241120T215504Z
UID:10002005-1780509600-1780531140@chicagomelee.com
SUMMARY:Midlane Melee
DESCRIPTION:Watch Stream\nSign-up on start.gg
URL:https://chicagomelee.com/tournament/midlane-melee-2/2026-06-03/
LOCATION:Midlane Esports\, 2741 N Milwaukee Ave\, Chicago\, IL\, 60647\, United States
CATEGORIES:Weeklies
ATTACH;FMTTYPE=image/png:https://chicagomelee.com/wp-content/uploads/start.gg-Profile.png
GEO:41.9309858;-87.712512
X-APPLE-STRUCTURED-LOCATION;VALUE=URI;X-ADDRESS=Midlane Esports 2741 N Milwaukee Ave Chicago IL 60647 United States;X-APPLE-RADIUS=500;X-TITLE=2741 N Milwaukee Ave:geo:-87.712512,41.9309858
END:VEVENT
BEGIN:VEVENT
DTSTART;TZID=America/Chicago:20260610T180000
DTEND;TZID=America/Chicago:20260610T235900
DTSTAMP:20260421T051719
CREATED:20231013T022307Z
LAST-MODIFIED:20241120T215504Z
UID:10002006-1781114400-1781135940@chicagomelee.com
SUMMARY:Midlane Melee
DESCRIPTION:Watch Stream\nSign-up on start.gg
URL:https://chicagomelee.com/tournament/midlane-melee-2/2026-06-10/
LOCATION:Midlane Esports\, 2741 N Milwaukee Ave\, Chicago\, IL\, 60647\, United States
CATEGORIES:Weeklies
ATTACH;FMTTYPE=image/png:https://chicagomelee.com/wp-content/uploads/start.gg-Profile.png
GEO:41.9309858;-87.712512
X-APPLE-STRUCTURED-LOCATION;VALUE=URI;X-ADDRESS=Midlane Esports 2741 N Milwaukee Ave Chicago IL 60647 United States;X-APPLE-RADIUS=500;X-TITLE=2741 N Milwaukee Ave:geo:-87.712512,41.9309858
END:VEVENT
BEGIN:VEVENT
DTSTART;TZID=America/Chicago:20260617T180000
DTEND;TZID=America/Chicago:20260617T235900
DTSTAMP:20260421T051719
CREATED:20231013T022307Z
LAST-MODIFIED:20241120T215504Z
UID:10002007-1781719200-1781740740@chicagomelee.com
SUMMARY:Midlane Melee
DESCRIPTION:Watch Stream\nSign-up on start.gg
URL:https://chicagomelee.com/tournament/midlane-melee-2/2026-06-17/
LOCATION:Midlane Esports\, 2741 N Milwaukee Ave\, Chicago\, IL\, 60647\, United States
CATEGORIES:Weeklies
ATTACH;FMTTYPE=image/png:https://chicagomelee.com/wp-content/uploads/start.gg-Profile.png
GEO:41.9309858;-87.712512
X-APPLE-STRUCTURED-LOCATION;VALUE=URI;X-ADDRESS=Midlane Esports 2741 N Milwaukee Ave Chicago IL 60647 United States;X-APPLE-RADIUS=500;X-TITLE=2741 N Milwaukee Ave:geo:-87.712512,41.9309858
END:VEVENT
BEGIN:VEVENT
DTSTART;TZID=America/Chicago:20260624T180000
DTEND;TZID=America/Chicago:20260624T235900
DTSTAMP:20260421T051719
CREATED:20231013T022307Z
LAST-MODIFIED:20241120T215504Z
UID:10002008-1782324000-1782345540@chicagomelee.com
SUMMARY:Midlane Melee
DESCRIPTION:Watch Stream\nSign-up on start.gg
URL:https://chicagomelee.com/tournament/midlane-melee-2/2026-06-24/
LOCATION:Midlane Esports\, 2741 N Milwaukee Ave\, Chicago\, IL\, 60647\, United States
CATEGORIES:Weeklies
ATTACH;FMTTYPE=image/png:https://chicagomelee.com/wp-content/uploads/start.gg-Profile.png
GEO:41.9309858;-87.712512
X-APPLE-STRUCTURED-LOCATION;VALUE=URI;X-ADDRESS=Midlane Esports 2741 N Milwaukee Ave Chicago IL 60647 United States;X-APPLE-RADIUS=500;X-TITLE=2741 N Milwaukee Ave:geo:-87.712512,41.9309858
END:VEVENT
BEGIN:VEVENT
DTSTART;TZID=America/Chicago:20260701T180000
DTEND;TZID=America/Chicago:20260701T235900
DTSTAMP:20260421T051719
CREATED:20231013T022307Z
LAST-MODIFIED:20241120T215504Z
UID:10002009-1782928800-1782950340@chicagomelee.com
SUMMARY:Midlane Melee
DESCRIPTION:Watch Stream\nSign-up on start.gg
URL:https://chicagomelee.com/tournament/midlane-melee-2/2026-07-01/
LOCATION:Midlane Esports\, 2741 N Milwaukee Ave\, Chicago\, IL\, 60647\, United States
CATEGORIES:Weeklies
ATTACH;FMTTYPE=image/png:https://chicagomelee.com/wp-content/uploads/start.gg-Profile.png
GEO:41.9309858;-87.712512
X-APPLE-STRUCTURED-LOCATION;VALUE=URI;X-ADDRESS=Midlane Esports 2741 N Milwaukee Ave Chicago IL 60647 United States;X-APPLE-RADIUS=500;X-TITLE=2741 N Milwaukee Ave:geo:-87.712512,41.9309858
END:VEVENT
BEGIN:VEVENT
DTSTART;TZID=America/Chicago:20260708T180000
DTEND;TZID=America/Chicago:20260708T235900
DTSTAMP:20260421T051719
CREATED:20231013T022307Z
LAST-MODIFIED:20241120T215504Z
UID:10002010-1783533600-1783555140@chicagomelee.com
SUMMARY:Midlane Melee
DESCRIPTION:Watch Stream\nSign-up on start.gg
URL:https://chicagomelee.com/tournament/midlane-melee-2/2026-07-08/
LOCATION:Midlane Esports\, 2741 N Milwaukee Ave\, Chicago\, IL\, 60647\, United States
CATEGORIES:Weeklies
ATTACH;FMTTYPE=image/png:https://chicagomelee.com/wp-content/uploads/start.gg-Profile.png
GEO:41.9309858;-87.712512
X-APPLE-STRUCTURED-LOCATION;VALUE=URI;X-ADDRESS=Midlane Esports 2741 N Milwaukee Ave Chicago IL 60647 United States;X-APPLE-RADIUS=500;X-TITLE=2741 N Milwaukee Ave:geo:-87.712512,41.9309858
END:VEVENT
BEGIN:VEVENT
DTSTART;TZID=America/Chicago:20260715T180000
DTEND;TZID=America/Chicago:20260715T235900
DTSTAMP:20260421T051719
CREATED:20231013T022307Z
LAST-MODIFIED:20241120T215504Z
UID:10002011-1784138400-1784159940@chicagomelee.com
SUMMARY:Midlane Melee
DESCRIPTION:Watch Stream\nSign-up on start.gg
URL:https://chicagomelee.com/tournament/midlane-melee-2/2026-07-15/
LOCATION:Midlane Esports\, 2741 N Milwaukee Ave\, Chicago\, IL\, 60647\, United States
CATEGORIES:Weeklies
ATTACH;FMTTYPE=image/png:https://chicagomelee.com/wp-content/uploads/start.gg-Profile.png
GEO:41.9309858;-87.712512
X-APPLE-STRUCTURED-LOCATION;VALUE=URI;X-ADDRESS=Midlane Esports 2741 N Milwaukee Ave Chicago IL 60647 United States;X-APPLE-RADIUS=500;X-TITLE=2741 N Milwaukee Ave:geo:-87.712512,41.9309858
END:VEVENT
BEGIN:VEVENT
DTSTART;TZID=America/Chicago:20260722T180000
DTEND;TZID=America/Chicago:20260722T235900
DTSTAMP:20260421T051719
CREATED:20231013T022307Z
LAST-MODIFIED:20241120T215504Z
UID:10002012-1784743200-1784764740@chicagomelee.com
SUMMARY:Midlane Melee
DESCRIPTION:Watch Stream\nSign-up on start.gg
URL:https://chicagomelee.com/tournament/midlane-melee-2/2026-07-22/
LOCATION:Midlane Esports\, 2741 N Milwaukee Ave\, Chicago\, IL\, 60647\, United States
CATEGORIES:Weeklies
ATTACH;FMTTYPE=image/png:https://chicagomelee.com/wp-content/uploads/start.gg-Profile.png
GEO:41.9309858;-87.712512
X-APPLE-STRUCTURED-LOCATION;VALUE=URI;X-ADDRESS=Midlane Esports 2741 N Milwaukee Ave Chicago IL 60647 United States;X-APPLE-RADIUS=500;X-TITLE=2741 N Milwaukee Ave:geo:-87.712512,41.9309858
END:VEVENT
BEGIN:VEVENT
DTSTART;TZID=America/Chicago:20260729T180000
DTEND;TZID=America/Chicago:20260729T235900
DTSTAMP:20260421T051719
CREATED:20231013T022307Z
LAST-MODIFIED:20241120T215504Z
UID:10002013-1785348000-1785369540@chicagomelee.com
SUMMARY:Midlane Melee
DESCRIPTION:Watch Stream\nSign-up on start.gg
URL:https://chicagomelee.com/tournament/midlane-melee-2/2026-07-29/
LOCATION:Midlane Esports\, 2741 N Milwaukee Ave\, Chicago\, IL\, 60647\, United States
CATEGORIES:Weeklies
ATTACH;FMTTYPE=image/png:https://chicagomelee.com/wp-content/uploads/start.gg-Profile.png
GEO:41.9309858;-87.712512
X-APPLE-STRUCTURED-LOCATION;VALUE=URI;X-ADDRESS=Midlane Esports 2741 N Milwaukee Ave Chicago IL 60647 United States;X-APPLE-RADIUS=500;X-TITLE=2741 N Milwaukee Ave:geo:-87.712512,41.9309858
END:VEVENT
BEGIN:VEVENT
DTSTART;TZID=America/Chicago:20260805T180000
DTEND;TZID=America/Chicago:20260805T235900
DTSTAMP:20260421T051719
CREATED:20231013T022307Z
LAST-MODIFIED:20241120T215504Z
UID:10002014-1785952800-1785974340@chicagomelee.com
SUMMARY:Midlane Melee
DESCRIPTION:Watch Stream\nSign-up on start.gg
URL:https://chicagomelee.com/tournament/midlane-melee-2/2026-08-05/
LOCATION:Midlane Esports\, 2741 N Milwaukee Ave\, Chicago\, IL\, 60647\, United States
CATEGORIES:Weeklies
ATTACH;FMTTYPE=image/png:https://chicagomelee.com/wp-content/uploads/start.gg-Profile.png
GEO:41.9309858;-87.712512
X-APPLE-STRUCTURED-LOCATION;VALUE=URI;X-ADDRESS=Midlane Esports 2741 N Milwaukee Ave Chicago IL 60647 United States;X-APPLE-RADIUS=500;X-TITLE=2741 N Milwaukee Ave:geo:-87.712512,41.9309858
END:VEVENT
BEGIN:VEVENT
DTSTART;TZID=America/Chicago:20260812T180000
DTEND;TZID=America/Chicago:20260812T235900
DTSTAMP:20260421T051719
CREATED:20231013T022307Z
LAST-MODIFIED:20241120T215504Z
UID:10002015-1786557600-1786579140@chicagomelee.com
SUMMARY:Midlane Melee
DESCRIPTION:Watch Stream\nSign-up on start.gg
URL:https://chicagomelee.com/tournament/midlane-melee-2/2026-08-12/
LOCATION:Midlane Esports\, 2741 N Milwaukee Ave\, Chicago\, IL\, 60647\, United States
CATEGORIES:Weeklies
ATTACH;FMTTYPE=image/png:https://chicagomelee.com/wp-content/uploads/start.gg-Profile.png
GEO:41.9309858;-87.712512
X-APPLE-STRUCTURED-LOCATION;VALUE=URI;X-ADDRESS=Midlane Esports 2741 N Milwaukee Ave Chicago IL 60647 United States;X-APPLE-RADIUS=500;X-TITLE=2741 N Milwaukee Ave:geo:-87.712512,41.9309858
END:VEVENT
BEGIN:VEVENT
DTSTART;TZID=America/Chicago:20260819T180000
DTEND;TZID=America/Chicago:20260819T235900
DTSTAMP:20260421T051719
CREATED:20231013T022307Z
LAST-MODIFIED:20241120T215504Z
UID:10002016-1787162400-1787183940@chicagomelee.com
SUMMARY:Midlane Melee
DESCRIPTION:Watch Stream\nSign-up on start.gg
URL:https://chicagomelee.com/tournament/midlane-melee-2/2026-08-19/
LOCATION:Midlane Esports\, 2741 N Milwaukee Ave\, Chicago\, IL\, 60647\, United States
CATEGORIES:Weeklies
ATTACH;FMTTYPE=image/png:https://chicagomelee.com/wp-content/uploads/start.gg-Profile.png
GEO:41.9309858;-87.712512
X-APPLE-STRUCTURED-LOCATION;VALUE=URI;X-ADDRESS=Midlane Esports 2741 N Milwaukee Ave Chicago IL 60647 United States;X-APPLE-RADIUS=500;X-TITLE=2741 N Milwaukee Ave:geo:-87.712512,41.9309858
END:VEVENT
BEGIN:VEVENT
DTSTART;TZID=America/Chicago:20260826T180000
DTEND;TZID=America/Chicago:20260826T235900
DTSTAMP:20260421T051719
CREATED:20231013T022307Z
LAST-MODIFIED:20241120T215504Z
UID:10002017-1787767200-1787788740@chicagomelee.com
SUMMARY:Midlane Melee
DESCRIPTION:Watch Stream\nSign-up on start.gg
URL:https://chicagomelee.com/tournament/midlane-melee-2/2026-08-26/
LOCATION:Midlane Esports\, 2741 N Milwaukee Ave\, Chicago\, IL\, 60647\, United States
CATEGORIES:Weeklies
ATTACH;FMTTYPE=image/png:https://chicagomelee.com/wp-content/uploads/start.gg-Profile.png
GEO:41.9309858;-87.712512
X-APPLE-STRUCTURED-LOCATION;VALUE=URI;X-ADDRESS=Midlane Esports 2741 N Milwaukee Ave Chicago IL 60647 United States;X-APPLE-RADIUS=500;X-TITLE=2741 N Milwaukee Ave:geo:-87.712512,41.9309858
END:VEVENT
BEGIN:VEVENT
DTSTART;TZID=America/Chicago:20260902T180000
DTEND;TZID=America/Chicago:20260902T235900
DTSTAMP:20260421T051719
CREATED:20231013T022307Z
LAST-MODIFIED:20241120T215504Z
UID:10002018-1788372000-1788393540@chicagomelee.com
SUMMARY:Midlane Melee
DESCRIPTION:Watch Stream\nSign-up on start.gg
URL:https://chicagomelee.com/tournament/midlane-melee-2/2026-09-02/
LOCATION:Midlane Esports\, 2741 N Milwaukee Ave\, Chicago\, IL\, 60647\, United States
CATEGORIES:Weeklies
ATTACH;FMTTYPE=image/png:https://chicagomelee.com/wp-content/uploads/start.gg-Profile.png
GEO:41.9309858;-87.712512
X-APPLE-STRUCTURED-LOCATION;VALUE=URI;X-ADDRESS=Midlane Esports 2741 N Milwaukee Ave Chicago IL 60647 United States;X-APPLE-RADIUS=500;X-TITLE=2741 N Milwaukee Ave:geo:-87.712512,41.9309858
END:VEVENT
BEGIN:VEVENT
DTSTART;TZID=America/Chicago:20260909T180000
DTEND;TZID=America/Chicago:20260909T235900
DTSTAMP:20260421T051719
CREATED:20231013T022307Z
LAST-MODIFIED:20241120T215504Z
UID:10002019-1788976800-1788998340@chicagomelee.com
SUMMARY:Midlane Melee
DESCRIPTION:Watch Stream\nSign-up on start.gg
URL:https://chicagomelee.com/tournament/midlane-melee-2/2026-09-09/
LOCATION:Midlane Esports\, 2741 N Milwaukee Ave\, Chicago\, IL\, 60647\, United States
CATEGORIES:Weeklies
ATTACH;FMTTYPE=image/png:https://chicagomelee.com/wp-content/uploads/start.gg-Profile.png
GEO:41.9309858;-87.712512
X-APPLE-STRUCTURED-LOCATION;VALUE=URI;X-ADDRESS=Midlane Esports 2741 N Milwaukee Ave Chicago IL 60647 United States;X-APPLE-RADIUS=500;X-TITLE=2741 N Milwaukee Ave:geo:-87.712512,41.9309858
END:VEVENT
BEGIN:VEVENT
DTSTART;TZID=America/Chicago:20260916T180000
DTEND;TZID=America/Chicago:20260916T235900
DTSTAMP:20260421T051719
CREATED:20231013T022307Z
LAST-MODIFIED:20241120T215504Z
UID:10002020-1789581600-1789603140@chicagomelee.com
SUMMARY:Midlane Melee
DESCRIPTION:Watch Stream\nSign-up on start.gg
URL:https://chicagomelee.com/tournament/midlane-melee-2/2026-09-16/
LOCATION:Midlane Esports\, 2741 N Milwaukee Ave\, Chicago\, IL\, 60647\, United States
CATEGORIES:Weeklies
ATTACH;FMTTYPE=image/png:https://chicagomelee.com/wp-content/uploads/start.gg-Profile.png
GEO:41.9309858;-87.712512
X-APPLE-STRUCTURED-LOCATION;VALUE=URI;X-ADDRESS=Midlane Esports 2741 N Milwaukee Ave Chicago IL 60647 United States;X-APPLE-RADIUS=500;X-TITLE=2741 N Milwaukee Ave:geo:-87.712512,41.9309858
END:VEVENT
BEGIN:VEVENT
DTSTART;TZID=America/Chicago:20260923T180000
DTEND;TZID=America/Chicago:20260923T235900
DTSTAMP:20260421T051719
CREATED:20231013T022307Z
LAST-MODIFIED:20241120T215504Z
UID:10002021-1790186400-1790207940@chicagomelee.com
SUMMARY:Midlane Melee
DESCRIPTION:Watch Stream\nSign-up on start.gg
URL:https://chicagomelee.com/tournament/midlane-melee-2/2026-09-23/
LOCATION:Midlane Esports\, 2741 N Milwaukee Ave\, Chicago\, IL\, 60647\, United States
CATEGORIES:Weeklies
ATTACH;FMTTYPE=image/png:https://chicagomelee.com/wp-content/uploads/start.gg-Profile.png
GEO:41.9309858;-87.712512
X-APPLE-STRUCTURED-LOCATION;VALUE=URI;X-ADDRESS=Midlane Esports 2741 N Milwaukee Ave Chicago IL 60647 United States;X-APPLE-RADIUS=500;X-TITLE=2741 N Milwaukee Ave:geo:-87.712512,41.9309858
END:VEVENT
BEGIN:VEVENT
DTSTART;TZID=America/Chicago:20260930T180000
DTEND;TZID=America/Chicago:20260930T235900
DTSTAMP:20260421T051719
CREATED:20231013T022307Z
LAST-MODIFIED:20241120T215504Z
UID:10002022-1790791200-1790812740@chicagomelee.com
SUMMARY:Midlane Melee
DESCRIPTION:Watch Stream\nSign-up on start.gg
URL:https://chicagomelee.com/tournament/midlane-melee-2/2026-09-30/
LOCATION:Midlane Esports\, 2741 N Milwaukee Ave\, Chicago\, IL\, 60647\, United States
CATEGORIES:Weeklies
ATTACH;FMTTYPE=image/png:https://chicagomelee.com/wp-content/uploads/start.gg-Profile.png
GEO:41.9309858;-87.712512
X-APPLE-STRUCTURED-LOCATION;VALUE=URI;X-ADDRESS=Midlane Esports 2741 N Milwaukee Ave Chicago IL 60647 United States;X-APPLE-RADIUS=500;X-TITLE=2741 N Milwaukee Ave:geo:-87.712512,41.9309858
END:VEVENT
BEGIN:VEVENT
DTSTART;TZID=America/Chicago:20261007T180000
DTEND;TZID=America/Chicago:20261007T235900
DTSTAMP:20260421T051719
CREATED:20231013T022307Z
LAST-MODIFIED:20241120T215504Z
UID:10002023-1791396000-1791417540@chicagomelee.com
SUMMARY:Midlane Melee
DESCRIPTION:Watch Stream\nSign-up on start.gg
URL:https://chicagomelee.com/tournament/midlane-melee-2/2026-10-07/
LOCATION:Midlane Esports\, 2741 N Milwaukee Ave\, Chicago\, IL\, 60647\, United States
CATEGORIES:Weeklies
ATTACH;FMTTYPE=image/png:https://chicagomelee.com/wp-content/uploads/start.gg-Profile.png
GEO:41.9309858;-87.712512
X-APPLE-STRUCTURED-LOCATION;VALUE=URI;X-ADDRESS=Midlane Esports 2741 N Milwaukee Ave Chicago IL 60647 United States;X-APPLE-RADIUS=500;X-TITLE=2741 N Milwaukee Ave:geo:-87.712512,41.9309858
END:VEVENT
BEGIN:VEVENT
DTSTART;TZID=America/Chicago:20261014T180000
DTEND;TZID=America/Chicago:20261014T235900
DTSTAMP:20260421T051719
CREATED:20231013T022307Z
LAST-MODIFIED:20241120T215504Z
UID:10002024-1792000800-1792022340@chicagomelee.com
SUMMARY:Midlane Melee
DESCRIPTION:Watch Stream\nSign-up on start.gg
URL:https://chicagomelee.com/tournament/midlane-melee-2/2026-10-14/
LOCATION:Midlane Esports\, 2741 N Milwaukee Ave\, Chicago\, IL\, 60647\, United States
CATEGORIES:Weeklies
ATTACH;FMTTYPE=image/png:https://chicagomelee.com/wp-content/uploads/start.gg-Profile.png
GEO:41.9309858;-87.712512
X-APPLE-STRUCTURED-LOCATION;VALUE=URI;X-ADDRESS=Midlane Esports 2741 N Milwaukee Ave Chicago IL 60647 United States;X-APPLE-RADIUS=500;X-TITLE=2741 N Milwaukee Ave:geo:-87.712512,41.9309858
END:VEVENT
BEGIN:VEVENT
DTSTART;TZID=America/Chicago:20261021T180000
DTEND;TZID=America/Chicago:20261021T235900
DTSTAMP:20260421T051719
CREATED:20231013T022307Z
LAST-MODIFIED:20241120T215504Z
UID:10002025-1792605600-1792627140@chicagomelee.com
SUMMARY:Midlane Melee
DESCRIPTION:Watch Stream\nSign-up on start.gg
URL:https://chicagomelee.com/tournament/midlane-melee-2/2026-10-21/
LOCATION:Midlane Esports\, 2741 N Milwaukee Ave\, Chicago\, IL\, 60647\, United States
CATEGORIES:Weeklies
ATTACH;FMTTYPE=image/png:https://chicagomelee.com/wp-content/uploads/start.gg-Profile.png
GEO:41.9309858;-87.712512
X-APPLE-STRUCTURED-LOCATION;VALUE=URI;X-ADDRESS=Midlane Esports 2741 N Milwaukee Ave Chicago IL 60647 United States;X-APPLE-RADIUS=500;X-TITLE=2741 N Milwaukee Ave:geo:-87.712512,41.9309858
END:VEVENT
BEGIN:VEVENT
DTSTART;TZID=America/Chicago:20261028T180000
DTEND;TZID=America/Chicago:20261028T235900
DTSTAMP:20260421T051719
CREATED:20231013T022307Z
LAST-MODIFIED:20241120T215504Z
UID:10002026-1793210400-1793231940@chicagomelee.com
SUMMARY:Midlane Melee
DESCRIPTION:Watch Stream\nSign-up on start.gg
URL:https://chicagomelee.com/tournament/midlane-melee-2/2026-10-28/
LOCATION:Midlane Esports\, 2741 N Milwaukee Ave\, Chicago\, IL\, 60647\, United States
CATEGORIES:Weeklies
ATTACH;FMTTYPE=image/png:https://chicagomelee.com/wp-content/uploads/start.gg-Profile.png
GEO:41.9309858;-87.712512
X-APPLE-STRUCTURED-LOCATION;VALUE=URI;X-ADDRESS=Midlane Esports 2741 N Milwaukee Ave Chicago IL 60647 United States;X-APPLE-RADIUS=500;X-TITLE=2741 N Milwaukee Ave:geo:-87.712512,41.9309858
END:VEVENT
BEGIN:VEVENT
DTSTART;TZID=America/Chicago:20261104T180000
DTEND;TZID=America/Chicago:20261104T235900
DTSTAMP:20260421T051719
CREATED:20231013T022307Z
LAST-MODIFIED:20241120T215504Z
UID:10002027-1793815200-1793836740@chicagomelee.com
SUMMARY:Midlane Melee
DESCRIPTION:Watch Stream\nSign-up on start.gg
URL:https://chicagomelee.com/tournament/midlane-melee-2/2026-11-04/
LOCATION:Midlane Esports\, 2741 N Milwaukee Ave\, Chicago\, IL\, 60647\, United States
CATEGORIES:Weeklies
ATTACH;FMTTYPE=image/png:https://chicagomelee.com/wp-content/uploads/start.gg-Profile.png
GEO:41.9309858;-87.712512
X-APPLE-STRUCTURED-LOCATION;VALUE=URI;X-ADDRESS=Midlane Esports 2741 N Milwaukee Ave Chicago IL 60647 United States;X-APPLE-RADIUS=500;X-TITLE=2741 N Milwaukee Ave:geo:-87.712512,41.9309858
END:VEVENT
BEGIN:VEVENT
DTSTART;TZID=America/Chicago:20261111T180000
DTEND;TZID=America/Chicago:20261111T235900
DTSTAMP:20260421T051719
CREATED:20231013T022307Z
LAST-MODIFIED:20241120T215504Z
UID:10002028-1794420000-1794441540@chicagomelee.com
SUMMARY:Midlane Melee
DESCRIPTION:Watch Stream\nSign-up on start.gg
URL:https://chicagomelee.com/tournament/midlane-melee-2/2026-11-11/
LOCATION:Midlane Esports\, 2741 N Milwaukee Ave\, Chicago\, IL\, 60647\, United States
CATEGORIES:Weeklies
ATTACH;FMTTYPE=image/png:https://chicagomelee.com/wp-content/uploads/start.gg-Profile.png
GEO:41.9309858;-87.712512
X-APPLE-STRUCTURED-LOCATION;VALUE=URI;X-ADDRESS=Midlane Esports 2741 N Milwaukee Ave Chicago IL 60647 United States;X-APPLE-RADIUS=500;X-TITLE=2741 N Milwaukee Ave:geo:-87.712512,41.9309858
END:VEVENT
END:VCALENDAR